BEGIN:VCALENDAR
VERSION:2.0
PRODID:-//hacksw/handcal//NONSGML v1.0//EN
BEGIN:VEVENT
UID:node-625751b119fc07702402e3c1adaf8c86@www.london-stadium.com
DTSTAMP:20260422T044437Z
DTSTART:20200613T181000Z
DTEND:20200613T231000Z
SUMMARY:Mitel & Mlb Present London Series 2020
DESCRIPTION:  - https://www.london-stadium.com/
LOCATION:
END:VEVENT
END:VCALENDAR