BEGIN:VCALENDAR
VERSION:2.0
PRODID:-//hacksw/handcal//NONSGML v1.0//EN
BEGIN:VEVENT
UID:node-fb24d3d4726c1360bdd7761a9e54f0e9@www.london-stadium.com
DTSTAMP:20260419T152209Z
DTSTART:20220624T163000Z
DTEND:20220624T213000Z
SUMMARY:The Hella Mega Tour: Green Day, Fall Out Boy & Weezer
DESCRIPTION:  - https://www.london-stadium.com/
LOCATION:
END:VEVENT
END:VCALENDAR